BEGIN:VCALENDAR
VERSION:2.0
PRODID:http://sofo-hd.de
BEGIN:VEVENT
UID:1777038117@sofo-hd.de
DTSTART:20260501T220000Z
SUMMARY:"Freischaltung der Kandidaturformulare für StuRa- und F
 SR-Wahlen"
LOCATION:online
DESCRIPTION:"Ab Mitternacht könnt ihr für den StuRa und viele Fachs
 chaftsräte kandidieren. \n\nStuRa-Kandidaturformular:
  \nhttps://www.stura.uni-heidelberg.de/kandidatur-stur
 a-listenplaetze/\n\n\nFSR-Kandidaturformular: \nhtt
 ps://www.stura.uni-heidelberg.de/wahlen/wahlen-zum-fach
 schaftsrat-fsr/kandidatur-fachschaftsrat/\n\n\nWeite
 re Informationen zum Aufstellen von Listen für den StuR
 a findet ihr hier:\nhttps://www.stura.uni-heidelberg.d
 e/wahlen/stura-wahlen/\n\n"
DTSTAMP:20260424T114320Z
URL:"https://sofo-hd.de/event/1777038117"
END:VEVENT
BEGIN:VEVENT
UID:1775823616@sofo-hd.de
DTSTART:20260508T140000Z
SUMMARY:"FRIST für die Einreichung von Kandidaturen für Senat u
 nd Fakultätsräte"
DESCRIPTION:"Für die Uni-Wahlen zu Fakultätsräten und Senat vom 09.
 06. bis 15.06.2026 müsst ihr bis heute kandidieren.\n
 \n\nWeitere Informationen zur Wahl findet ihr auf der 
 Seite des Wahlamts der Uni\n\nhttps://www.uni-heidelb
 erg.de/universitaet/beschaeftigte/service/recht/wahlen/
 index.html\n\nEinige Infos findet ihr auch hier:\n\
 nhttps://www.stura.uni-heidelberg.de/wahlen/uniwahlen-f
 akultaetsraete-und-senat/"
DTSTAMP:20260410T153859Z
URL:"https://sofo-hd.de/event/1775823616"
END:VEVENT
BEGIN:VEVENT
UID:1777045770@sofo-hd.de
DTSTART:20260517T140000Z
SUMMARY:"ÜBERMORGEN: FRIST für das Einreichen von Wahlvorschläg
 en für die StuRa-Wahl"
DESCRIPTION:"Noch bis übermorgen, 16:00 könnt ihr für die StuRawahl
 en von Di, 09.06. - Di, 16.06. kandidieren. \n\nInfor
 mationen zur StuRa-Wahl findet ihr hier:\nhttps://www.
 stura.uni-heidelberg.de/wahlen/stura-wahlen/\n\nDas K
 andidaturformular findet ihr hier:\nhttps://www.stura.
 uni-heidelberg.de/kandidatur-stura-listenplaetze/"
DTSTAMP:20260424T134952Z
URL:"https://sofo-hd.de/event/1777045770"
END:VEVENT
END:VCALENDAR
