BEGIN:VCALENDAR
VERSION:2.0
PRODID:http://sofo-hd.de
BEGIN:VEVENT
UID:1775641357@sofo-hd.de
DTSTART:20260428T170000Z
SUMMARY:"Pizza und Plenum: Plenum der Seebrücke zum neu Einstei
 gen"
LOCATION:"Haus der Christuskirche (3. OG), Zähringer Str. 26"
DESCRIPTION:"Pizza und Plenum: Plenum der Seebrücke zum neu Einstei
 gen"
DTSTAMP:20260410T163434Z
URL:"https://sofo-hd.de/event/1775641357"
END:VEVENT
BEGIN:VEVENT
UID:1775847218@sofo-hd.de
DTSTART:20260429T163000Z
SUMMARY:"Treffen des Enthinderungsreferats"
LOCATION:"Mathematikon, SR C und online über Zoom"
DESCRIPTION:"Kreatives Treffen zum Vernetzen und gemeinsam Spaß hab
 en!\n\nBeim kreativen Treffen des Enthinderungsrefera
 ts geht es um Austausch, Ausdruck und gemeinsames Gesta
 lten. Hier kannst du dich kreativ entfalten – ganz ohne
  Leistungsdruck. Ob Malen, Basteln, Schreiben oder einf
 ach Ideen teilen: Alles ist möglich🖌️✂️📝.\n\nEin beso
 nderer Fokus liegt auch auf der gemeinsamen Gestaltung 
 von Plakaten für eine Demo im Rahmen des Europäischen P
 rotesttags zur Gleichstellung von Menschen mit Behinder
 ungen/Tag der Inklusion und Welt-ME/CFS-Tag. Du kannst 
 dich also nicht nur kreativ ausprobieren, sondern auch 
 aktiv werden und deine Perspektiven sichtbar machen.\n
 \nGleichzeitig entsteht Raum für Begegnung und Gespräc
 he über das, was uns bewegt. Besonders wichtig ist uns,
  dass jede*r teilnehmen kann – unabhängig von Einschrän
 kungen. Kreativität verbindet, stärkt Stimmen und schaf
 ft Öffentlichkeit – sei dabei!"
DTSTAMP:20260416T211249Z
URL:"https://sofo-hd.de/event/1775847218"
END:VEVENT
BEGIN:VEVENT
UID:1775677017@sofo-hd.de
DTSTART:20260429T170000Z
SUMMARY:"Studis gegen Rechts - Offenes Plenum"
LOCATION:rabatz
DESCRIPTION:"Wir sind Studis gegen Rechts, eine studentische Initia
 tive gegen den Rechtsruck. Wir treffen uns mittwochs im
  Rabatz zum offenen Plenum. Dort organisieren wir unser
 e nächsten Aktionen und tauschen uns über politische Th
 emen aus.\nKomm gerne vorbei, egal wie viel Erfahrung 
 du mit politischer Arbeit hast! \n\nZeitplan:\n\n* 
 18 Uhr: Raumöffnung, die ersten trudeln ein\n* 19 Uhr:
  Kleingruppenarbeit\n* 20 Uhr: Offenes Plenum\n\nKom
 m gerne schon zwischen 18 und 19 Uhr vorbei!\n\nHier 
 ist der Link zu unserer Telegram Gruppe, falls du Frage
 n hast:\nhttps://t.me/+7n8ykwVIBydlNThi\n\nHier ist 
 unser Instagramkanal:\nhttps://www.instagram.com/studi
 sgegenrechts_heidelberg/"
DTSTAMP:20260416T073514Z
URL:"https://sofo-hd.de/event/1775677017"
END:VEVENT
BEGIN:VEVENT
UID:1775642026@sofo-hd.de
DTSTART:20260504T153000Z
SUMMARY:"Gemeinsames veganes Kochen & Essen"
LOCATION:stura
DESCRIPTION:"Gemeinsames veganes Kochen & Essen im Stura-Büro/Küche
 \n\nVeranstaltet von ROSA Hochschulgruppe (Resolute O
 rganisation für Solidarität und Antikapitalismus)\n\n
 "
DTSTAMP:20260408T075450Z
URL:"https://sofo-hd.de/event/1775642026"
END:VEVENT
BEGIN:VEVENT
UID:1775677250@sofo-hd.de
DTSTART:20260506T170000Z
SUMMARY:"Studis gegen Rechts - Spasstreffen"
LOCATION:rabatz
DESCRIPTION:"Wir sind Studis gegen Rechts, eine studentische Initia
 tive gegen den Rechtsruck. Wir treffen uns mittwochs im
  Rabatz zum Spasstreffen. Komm gerne vorbei, egal wie v
 iel Erfahrung du mit politischer Arbeit hast! Gerade da
 s Spasstreffen ist gut geeignet um uns kennenzulernen u
 nd mitzumachen! :)\nZu Beginn gibt es ein Mini-Plenum,
  in dem wir unsere nächsten Aktionen besprechen und ans
 chließend kochen wir gemeinsam vegan 🌱 \n\nZeitplan:
 \n\n* 18 Uhr: Raumöffnung, die ersten trudeln ein\n* 
 19 Uhr: Mini-Plenum\n* danach: Gemeinsames Kochen, Kar
 tenspiele & Austausch\n\nKomm gerne schon zwischen 18
  und 19 Uhr vorbei!\n\nHier ist der Link zu unserer T
 elegram Gruppe, falls du Fragen hast:\nhttps://t.me/+7
 n8ykwVIBydlNThi\n\nHier ist unser Instagramkanal:\nh
 ttps://www.instagram.com/studisgegenrechts_heidelberg/"
DTSTAMP:20260416T073545Z
URL:"https://sofo-hd.de/event/1775677250"
END:VEVENT
BEGIN:VEVENT
UID:1776799899@sofo-hd.de
DTSTART:20260509T090000Z
SUMMARY:"Jungpflanzenmarkt in der Gärtnerei Wildwuchs e.V.🪴☀️"
LOCATION:"Gemeinschaftsgärtnerei Wildwuchs, in den Handschuhshei
 mer Feldern (Wegbeschreibung dorthin kann gerne erfragt
  werden kontakt@wildwuchs-hd.de)"
DESCRIPTION:"Herzliche Einladung zum Jungpflanzenmarkt am Samstag, 
 9. Mai im Südgarten der Gemeinschaftsgärtnerei Wildwuch
 s e.V. Von 11 bis 14 Uhr stehen allen die Tore offen fü
 r den Pflänzchen-Tausch und Kauf, dazu gibt's gemütlich
 en Kaffee-Kuchen-Plausch. Dabei kann auch die Gemeinsch
 aftsgärtnerei kennengelernt werden.🪴☀️ "
DTSTAMP:20260421T214042Z
URL:"https://sofo-hd.de/event/1776799899"
END:VEVENT
BEGIN:VEVENT
UID:1775677110@sofo-hd.de
DTSTART:20260513T160000Z
SUMMARY:"Studis gegen Rechts - Offenes Plenum"
LOCATION:rabatz
DESCRIPTION:"Wir sind Studis gegen Rechts, eine studentische Initia
 tive gegen den Rechtsruck. Wir treffen uns mittwochs im
  Rabatz zum offenen Plenum. Dort organisieren wir unser
 e nächsten Aktionen und tauschen uns über politische Th
 emen aus.\nKomm gerne vorbei, egal wie viel Erfahrung 
 du mit politischer Arbeit hast! \n\nHier ist der Link
  zu unserer Telegram Gruppe, falls du Fragen hast:\nht
 tps://t.me/+7n8ykwVIBydlNThi\n\nHier ist unser Instag
 ramkanal:\nhttps://www.instagram.com/studisgegenrechts
 _heidelberg/"
DTSTAMP:20260410T220654Z
URL:"https://sofo-hd.de/event/1775677110"
END:VEVENT
BEGIN:VEVENT
UID:1775847967@sofo-hd.de
DTSTART:20260513T163000Z
SUMMARY:"Treffen des Enthinderungsreferats"
LOCATION:"Mathematikon, SR C und online über Zoom"
DESCRIPTION:"Picknick und Spiele am Neckar zum Vernetzen und gemein
 sam Spaß haben!\n\nGemeinsam raus ins Grüne🌼🌤️! Unser
  inklusives Picknick auf der Neckarwiese bietet dir die
  Möglichkeit, in entspannter Umgebung neue Leute kennen
 zulernen, dich auszutauschen und einfach eine gute Zeit
  zu haben. Wir bringen Spiele mit, du kannst aber auch 
 einfach entspannen und die Atmosphäre genießen. Bring g
 ern Snacks und eine Decke mit. Das Treffen ist offen fü
 r alle – mit und ohne Behinderung oder Erkrankung. Im M
 ittelpunkt stehen Gemeinschaft, Teilhabe und Freude am 
 Zusammensein.\n\n(Bei schlechtem Wetter bleiben wir i
 m Mathematikon)"
DTSTAMP:20260410T171130Z
URL:"https://sofo-hd.de/event/1775847967"
END:VEVENT
END:VCALENDAR
