BEGIN:VCALENDAR
VERSION:2.0
PRODID:http://sofo-hd.de
BEGIN:VEVENT
UID:1775555033@sofo-hd.de
DTSTART:20260421T160000Z
SUMMARY:"349. Sitzung der RefKonf (öffentlich)"
LOCATION:hybrid
DESCRIPTION:"Die Refkonf ist das Exekutivorgan der Verfassten Studi
 erendenschaft. Mitglieder sind die Vorsitzenden der Ver
 fassten Studierendenschaft (VS), die Sitzung leiten, so
 wie die Referent*innen, von denen je eine*r pro Referat
  die Stimme führt.\n\nDie Unterlagen zur Hybrid-Konfe
 renz findest du hier:\n\nhttps://www.stura.uni-heidel
 berg.de/vs-strukturen/referatekonferenz-refkonf/sitzung
 sunterlagen-protokolle-der-referatekonferenz/\n\nDie 
 Sitzung ist öffentlich, wenn du zuhören oder mitdiskuti
 eren möchtest, kannst du teilnehmen. Die Sitzung findet
  hybrid statt:\n\nonline: https://sturahd.de/refkonfs
 itzung\n\nPräsenz: in der Regel Raum 160 im StuRa-Bür
 o in der Albert-Ueberle-Str. 3-5."
DTSTAMP:20260407T081716Z
URL:"https://sofo-hd.de/event/1775555033"
END:VEVENT
BEGIN:VEVENT
UID:1776366383@sofo-hd.de
DTSTART:20260422T120000Z
SUMMARY:"Sitzung der SchliKo"
LOCATION:stura
DESCRIPTION:"Die für Mittwoch, den 22.04.2026, um 14:00 Uhr angeset
 zte Sitzung der Schlichtungskommission zur Anhörung in 
 den Sachen SchliKo-02/2026, SchliKo-03/2026 und SchliKo
 -04/2026 findet im Sitzungszimmer in der Albert-Ueberle
 -Straße 3–5, 69120 Heidelberg, statt.\n\n\nWeitere I
 nfos:\nhttps://www.stura.uni-heidelberg.de/vs-struktur
 en/ausschuesse-kommissionen/schlichtungskommission/\n"
DTSTAMP:20260416T170802Z
URL:"https://sofo-hd.de/event/1776366383"
END:VEVENT
BEGIN:VEVENT
UID:1774435343@sofo-hd.de
DTSTART:20260428T170000Z
SUMMARY:"223. StuRa-Sitzung (öffentlich)"
LOCATION:hsstura
DESCRIPTION:"Der StuRa ist das Legislativorgan der Verfassten Studi
 erendenschaft. Alle Studierenden der Uni Heidelberg sin
 d herzlich eingeladen! Und übrigens auch antragsberecht
 igt :)\n\nDie Sitzung findet in Präsenz statt, es gib
 t aber die Möglichkeit, sich online zuzuschalten, z.B. 
 wenn man kandidiert.\n\nInformationen zur Antragstell
 ung und Fristen sowie einen Link zu den Sitzungsunterla
 gen findest du hier: https://www.stura.uni-heidelberg.d
 e/vs-strukturen/studierendenrat/\n\nVor der Sitzung, 
 besteht für Interessierte, Antragsteller*innen und Mitg
 lieder die Möglichkeit, sich eine Tasse Tee oder Kaffee
  zuzubereiten, Unterlagen auszudrucken und sich mit and
 eren StuRa-Mitgliedern oder Interessierten auf die Sitz
 ung vorzubereiten."
DTSTAMP:20260325T094325Z
URL:"https://sofo-hd.de/event/1774435343"
END:VEVENT
BEGIN:VEVENT
UID:1775558869@sofo-hd.de
DTSTART:20260505T160000Z
SUMMARY:"350. Sitzung der RefKonf (öffentlich)"
LOCATION:hybrid
DESCRIPTION:"Die Refkonf ist das Exekutivorgan der Verfassten Studi
 erendenschaft. Mitglieder sind die Vorsitzenden der Ver
 fassten Studierendenschaft (VS), die Sitzung leiten, so
 wie die Referent*innen, von denen je eine*r pro Referat
  die Stimme führt.\n\nDie Unterlagen zur Hybrid-Konfe
 renz findest du hier:\n\nhttps://www.stura.uni-heidel
 berg.de/vs-strukturen/referatekonferenz-refkonf/sitzung
 sunterlagen-protokolle-der-referatekonferenz/\n\nDie 
 Sitzung ist öffentlich, wenn du zuhören oder mitdiskuti
 eren möchtest, kannst du teilnehmen. Die Sitzung findet
  hybrid statt:\n\nonline: https://sturahd.de/refkonfs
 itzung\n\nPräsenz: in der Regel Raum 160 im StuRa-Bür
 o in der Albert-Ueberle-Str. 3-5."
DTSTAMP:20260407T084810Z
URL:"https://sofo-hd.de/event/1775558869"
END:VEVENT
BEGIN:VEVENT
UID:1742729020@sofo-hd.de
DTSTART:20260512T131500Z
SUMMARY:"Sitzung des Senats (nichtöffentlich)\n"
LOCATION:"Senatssaal, Alte Uni"
DESCRIPTION:"Der Senat ist das uniweite Gremium der Universität, in
  dem alle Mitgliedsgruppen der Uni vertreten sind.\n\
 nFristen für diese Sitzung:\n\n- Einreichungfrist der
  Unterlagen: 22.04.2026\n\n- TO-Aufstellung: 29.04.20
 26\n\n- Versand: 04.05.2026\n\nWeitere Infos findet
  ihr hier:https://www.stura.uni-heidelberg.de/gremienar
 beit/arbeit-in-unigremien/senat/"
DTSTAMP:20260218T235305Z
URL:"https://sofo-hd.de/event/1742729020"
END:VEVENT
BEGIN:VEVENT
UID:1774435437@sofo-hd.de
DTSTART:20260512T170000Z
SUMMARY:"224. StuRa-Sitzung (öffentlich)"
LOCATION:hsstura
DESCRIPTION:"Der StuRa ist das Legislativorgan der Verfassten Studi
 erendenschaft. Alle Studierenden der Uni Heidelberg sin
 d herzlich eingeladen! Und übrigens auch antragsberecht
 igt :)\n\nDie Sitzung findet in Präsenz statt, es gib
 t aber die Möglichkeit, sich online zuzuschalten, z.B. 
 wenn man kandidiert.\n\nInformationen zur Antragstell
 ung und Fristen sowie einen Link zu den Sitzungsunterla
 gen findest du hier: https://www.stura.uni-heidelberg.d
 e/vs-strukturen/studierendenrat/\n\nVor der Sitzung, 
 besteht für Interessierte, Antragsteller*innen und Mitg
 lieder die Möglichkeit, sich eine Tasse Tee oder Kaffee
  zuzubereiten, Unterlagen auszudrucken und sich mit and
 eren StuRa-Mitgliedern oder Interessierten auf die Sitz
 ung vorzubereiten."
DTSTAMP:20260325T094420Z
URL:"https://sofo-hd.de/event/1774435437"
END:VEVENT
END:VCALENDAR
